BEGIN:VCALENDAR
VERSION:2.0
PRODID:-//eventon.com NONSGML v1.0//EN
CALSCALE:GREGORIAN
METHOD:PUBLISH
BEGIN:VEVENT
UID:69e742fc22562
DTSTAMP:20260421T092724Z
DTSTART:20260225T230000Z
DTEND:20260226T025900Z
LOCATION:Legacy Room at Houston City Hall 900 Bagby Street
SUMMARY:Dialogue with Industry Leaders: The Future of Healthcare
DESCRIPTION:World Chamber of Commerce – TX&nbsp;PresentsDialogue with Lea
 ders: The Future of HealthcareInnovation\,  Access\,  Cost\,  and Global Pe
 rspectivesWednesday\,  February 25\,  2026&nbsp;– Houston City Hall Houst
 on\,  TX&nbsp;– The World Chamber of Commerce Texas (WCCTx) proudly annou
 nces its next installment in the prestigious&nbsp;Dialogue with Leaders&nbs
 p;series\,  titled&nbsp;“The Future of Healthcare: Innovation\,  Access\,
   Cost\,  and[..]\nhttps://wcct.org/event/022526-dialoguewithindustryleader
 s-futureofhealthcare/
URL:https://wcct.org/event/022526-dialoguewithindustryleaders-futureofhealthcare/
END:VEVENT
END:VCALENDAR